BEGIN:VCALENDAR
VERSION:2.0
PRODID:-//Australia&#039;s Church of Seventh-day Adventists - ECPv6.15.20//NONSGML v1.0//EN
CALSCALE:GREGORIAN
METHOD:PUBLISH
X-WR-CALNAME:Australia&#039;s Church of Seventh-day Adventists
X-ORIGINAL-URL:https://adventist.org.au
X-WR-CALDESC:Events for Australia&#039;s Church of Seventh-day Adventists
REFRESH-INTERVAL;VALUE=DURATION:PT1H
X-Robots-Tag:noindex
X-PUBLISHED-TTL:PT1H
BEGIN:VTIMEZONE
TZID:Australia/Melbourne
BEGIN:STANDARD
TZOFFSETFROM:+1100
TZOFFSETTO:+1000
TZNAME:AEST
DTSTART:20230401T160000
END:STANDARD
BEGIN:DAYLIGHT
TZOFFSETFROM:+1000
TZOFFSETTO:+1100
TZNAME:AEDT
DTSTART:20230930T160000
END:DAYLIGHT
BEGIN:STANDARD
TZOFFSETFROM:+1100
TZOFFSETTO:+1000
TZNAME:AEST
DTSTART:20240406T160000
END:STANDARD
BEGIN:DAYLIGHT
TZOFFSETFROM:+1000
TZOFFSETTO:+1100
TZNAME:AEDT
DTSTART:20241005T160000
END:DAYLIGHT
BEGIN:STANDARD
TZOFFSETFROM:+1100
TZOFFSETTO:+1000
TZNAME:AEST
DTSTART:20250405T160000
END:STANDARD
BEGIN:DAYLIGHT
TZOFFSETFROM:+1000
TZOFFSETTO:+1100
TZNAME:AEDT
DTSTART:20251004T160000
END:DAYLIGHT
END:VTIMEZONE
BEGIN:VEVENT
DTSTART;VALUE=DATE:20240309
DTEND;VALUE=DATE:20240310
DTSTAMP:20260421T224354
CREATED:20240118T033139Z
LAST-MODIFIED:20240214T023205Z
UID:12574-1709942400-1710028799@adventist.org.au
SUMMARY:Digital Discipleship 2024
DESCRIPTION:How can you make a difference in a world that seems broken\, where hope seems elusive\, and faith is faltering? Amid this darkness\, we can declare a message of hope. The gospel is a light that pierces through the darkest corners of despair. \nThis is an invitation to embrace a new era of faith and service\, to become a digital disciple. In a world saturated with technology\, we encourage you to use digital tools to reach people in your neighbourhood as well as places across the globe where the gospel has yet to echo. Be part of a collective heartbeat\, a movement of people who seek to make a tangible difference. Through the fusion of personal touch and cutting-edge technology\, we can fulfil the divine mandate that Jesus has entrusted us with. \nThe Digital Discipleship conference will guide and inspire you. It will help you connect with people in profound and meaningful ways. \nJoin us online March 9\, for this conference. Where you can begin to learn about how to be a catalyst for change and understand the digital tools that are available to achieve this. If you are a content creator\, a church leader\, or a church that wants to be a light in your community\, this conference is for you. Help others meet Jesus and find hope through your content. Register now so you can be part of this special event. \nSpeakers
URL:https://adventist.org.au/event/digital-discipleship-2024/
LOCATION:NSW
ATTACH;FMTTYPE=image/png:https://adventist.org.au/wp-content/uploads/2024/01/Streams-live-on-YouTube-Facebook-and-Instagram.png
END:VEVENT
END:VCALENDAR