BEGIN:VCALENDAR
VERSION:2.0
PRODID:-//Australia&#039;s Church of Seventh-day Adventists - ECPv6.15.20//NONSGML v1.0//EN
CALSCALE:GREGORIAN
METHOD:PUBLISH
X-WR-CALNAME:Australia&#039;s Church of Seventh-day Adventists
X-ORIGINAL-URL:https://adventist.org.au
X-WR-CALDESC:Events for Australia&#039;s Church of Seventh-day Adventists
REFRESH-INTERVAL;VALUE=DURATION:PT1H
X-Robots-Tag:noindex
X-PUBLISHED-TTL:PT1H
BEGIN:VTIMEZONE
TZID:Australia/Melbourne
BEGIN:STANDARD
TZOFFSETFROM:+1100
TZOFFSETTO:+1000
TZNAME:AEST
DTSTART:20230401T160000
END:STANDARD
BEGIN:DAYLIGHT
TZOFFSETFROM:+1000
TZOFFSETTO:+1100
TZNAME:AEDT
DTSTART:20230930T160000
END:DAYLIGHT
BEGIN:STANDARD
TZOFFSETFROM:+1100
TZOFFSETTO:+1000
TZNAME:AEST
DTSTART:20240406T160000
END:STANDARD
BEGIN:DAYLIGHT
TZOFFSETFROM:+1000
TZOFFSETTO:+1100
TZNAME:AEDT
DTSTART:20241005T160000
END:DAYLIGHT
BEGIN:STANDARD
TZOFFSETFROM:+1100
TZOFFSETTO:+1000
TZNAME:AEST
DTSTART:20250405T160000
END:STANDARD
BEGIN:DAYLIGHT
TZOFFSETFROM:+1000
TZOFFSETTO:+1100
TZNAME:AEDT
DTSTART:20251004T160000
END:DAYLIGHT
END:VTIMEZONE
BEGIN:VEVENT
DTSTART;TZID=Australia/Melbourne:20240511T183000
DTEND;TZID=Australia/Melbourne:20240511T213000
DTSTAMP:20260421T193051
CREATED:20240415T061813Z
LAST-MODIFIED:20240502T062419Z
UID:14694-1715452200-1715463000@adventist.org.au
SUMMARY:Faith FM - Free Community Dinner
DESCRIPTION:WHAT: Enjoy a FREE community dinner event with the Aussie Pastor – Lloyd Grolimund from “The Aussie Pastor Live”. Lloyd will present an exciting high-powered to the point TEDTalk style presentation on Bible prophecy and the United States of America. So join us for dinner\, interviews\, prizes and deep insights into bible prophecy in light of what is taking place today. \nCOST: Free \nWHEN: Starts 6.30 pm – 11 May 2024 \nWHERE: 182 Lake Rd\, Elermore Vale NSW 2285 \nRSVP: Please RSVP by May 6 to ensure your spot.
URL:https://adventist.org.au/event/faith-fm-free-community-dinner/
LOCATION:Wallsend Seventh-day Adventist Church\, 182 Lake Road\, Elermore Vale\, NSW\, 2287\, Australia
ATTACH;FMTTYPE=image/jpeg:https://adventist.org.au/wp-content/uploads/2024/04/USA.jpeg
END:VEVENT
END:VCALENDAR