BEGIN:VCALENDAR
VERSION:2.0
PRODID:-//Australia&#039;s Church of Seventh-day Adventists - ECPv6.15.20//NONSGML v1.0//EN
CALSCALE:GREGORIAN
METHOD:PUBLISH
X-ORIGINAL-URL:https://adventist.org.au
X-WR-CALDESC:Events for Australia&#039;s Church of Seventh-day Adventists
REFRESH-INTERVAL;VALUE=DURATION:PT1H
X-Robots-Tag:noindex
X-PUBLISHED-TTL:PT1H
BEGIN:VTIMEZONE
TZID:Australia/Melbourne
BEGIN:STANDARD
TZOFFSETFROM:+1100
TZOFFSETTO:+1000
TZNAME:AEST
DTSTART:20230401T160000
END:STANDARD
BEGIN:DAYLIGHT
TZOFFSETFROM:+1000
TZOFFSETTO:+1100
TZNAME:AEDT
DTSTART:20230930T160000
END:DAYLIGHT
BEGIN:STANDARD
TZOFFSETFROM:+1100
TZOFFSETTO:+1000
TZNAME:AEST
DTSTART:20240406T160000
END:STANDARD
BEGIN:DAYLIGHT
TZOFFSETFROM:+1000
TZOFFSETTO:+1100
TZNAME:AEDT
DTSTART:20241005T160000
END:DAYLIGHT
BEGIN:STANDARD
TZOFFSETFROM:+1100
TZOFFSETTO:+1000
TZNAME:AEST
DTSTART:20250405T160000
END:STANDARD
BEGIN:DAYLIGHT
TZOFFSETFROM:+1000
TZOFFSETTO:+1100
TZNAME:AEDT
DTSTART:20251004T160000
END:DAYLIGHT
END:VTIMEZONE
BEGIN:VEVENT
DTSTART;VALUE=DATE:20240518
DTEND;VALUE=DATE:20240519
DTSTAMP:20260421T212004
CREATED:20240513T011658Z
LAST-MODIFIED:20240513T011658Z
UID:14746-1715990400-1716076799@adventist.org.au
SUMMARY:World Adventurer Day
DESCRIPTION:For years Adventurers and Adventurer leaders have been waiting for a special world event to celebrate what it means to be an Adventurer. We are proud and excited to announce that we now have a World Adventurer Day! This event will take place every third Sabbath of May. It is a special day to let our Adventurers enjoy being Adventurers and to show others the blessing they are to our church and our community. Make sure to check on this page regularly on the months leading up to World Adventurer Day for resources created specifically for you to use in your local church and centered on the theme for that specific year.
URL:https://adventist.org.au/event/world-adventurer-day/
LOCATION:NSW
ATTACH;FMTTYPE=image/webp:https://adventist.org.au/wp-content/uploads/2024/05/Flyer-WAD-02-1024x1024-1.webp
END:VEVENT
END:VCALENDAR