BEGIN:VCALENDAR
VERSION:2.0
PRODID:-//Australia&#039;s Church of Seventh-day Adventists - ECPv6.15.20//NONSGML v1.0//EN
CALSCALE:GREGORIAN
METHOD:PUBLISH
X-WR-CALNAME:Australia&#039;s Church of Seventh-day Adventists
X-ORIGINAL-URL:https://adventist.org.au
X-WR-CALDESC:Events for Australia&#039;s Church of Seventh-day Adventists
REFRESH-INTERVAL;VALUE=DURATION:PT1H
X-Robots-Tag:noindex
X-PUBLISHED-TTL:PT1H
BEGIN:VTIMEZONE
TZID:Australia/Melbourne
BEGIN:STANDARD
TZOFFSETFROM:+1100
TZOFFSETTO:+1000
TZNAME:AEST
DTSTART:20230401T160000
END:STANDARD
BEGIN:DAYLIGHT
TZOFFSETFROM:+1000
TZOFFSETTO:+1100
TZNAME:AEDT
DTSTART:20230930T160000
END:DAYLIGHT
BEGIN:STANDARD
TZOFFSETFROM:+1100
TZOFFSETTO:+1000
TZNAME:AEST
DTSTART:20240406T160000
END:STANDARD
BEGIN:DAYLIGHT
TZOFFSETFROM:+1000
TZOFFSETTO:+1100
TZNAME:AEDT
DTSTART:20241005T160000
END:DAYLIGHT
BEGIN:STANDARD
TZOFFSETFROM:+1100
TZOFFSETTO:+1000
TZNAME:AEST
DTSTART:20250405T160000
END:STANDARD
BEGIN:DAYLIGHT
TZOFFSETFROM:+1000
TZOFFSETTO:+1100
TZNAME:AEDT
DTSTART:20251004T160000
END:DAYLIGHT
END:VTIMEZONE
BEGIN:VEVENT
DTSTART;TZID=Australia/Melbourne:20240624T180000
DTEND;TZID=Australia/Melbourne:20240624T210000
DTSTAMP:20260421T211154
CREATED:20240524T001951Z
LAST-MODIFIED:20240524T001951Z
UID:14933-1719252000-1719262800@adventist.org.au
SUMMARY:Faith FM - Free Community Dinner
DESCRIPTION:WHAT: Enjoy a FREE community dinner event with Robbie Berghan from “The Faith Experiment”\, Peter Watts from “A Light in the dark”\, and Brad Martin from “Conversations”. Robbie will give a high-powered\, exciting\, and insightful presentation on what is happening in the world right now! “CBDC\, Cashless Societies\, Digital Currencies and Bible Prophecy”\nCOST: Free\nWHEN: Starts 6.00 pm – 22nd June 2024\nWHERE: ADRA Community Center\, 3505 Warburton Hwy\nRSVP: Please RSVP by June 18th to ensure your spot.
URL:https://adventist.org.au/event/faith-fm-free-community-dinner-4/
LOCATION:ADRA Community Center\, 3505 Warburton Highway\, Warburton\, VIC\, 3799\, Australia
ATTACH;FMTTYPE=image/jpeg:https://adventist.org.au/wp-content/uploads/2024/05/CCE-WARBURTON-1.jpg
END:VEVENT
END:VCALENDAR