BEGIN:VCALENDAR
VERSION:2.0
PRODID:-//Australia&#039;s Church of Seventh-day Adventists - ECPv6.15.20//NONSGML v1.0//EN
CALSCALE:GREGORIAN
METHOD:PUBLISH
X-WR-CALNAME:Australia&#039;s Church of Seventh-day Adventists
X-ORIGINAL-URL:https://adventist.org.au
X-WR-CALDESC:Events for Australia&#039;s Church of Seventh-day Adventists
REFRESH-INTERVAL;VALUE=DURATION:PT1H
X-Robots-Tag:noindex
X-PUBLISHED-TTL:PT1H
BEGIN:VTIMEZONE
TZID:Australia/Melbourne
BEGIN:STANDARD
TZOFFSETFROM:+1100
TZOFFSETTO:+1000
TZNAME:AEST
DTSTART:20230401T160000
END:STANDARD
BEGIN:DAYLIGHT
TZOFFSETFROM:+1000
TZOFFSETTO:+1100
TZNAME:AEDT
DTSTART:20230930T160000
END:DAYLIGHT
BEGIN:STANDARD
TZOFFSETFROM:+1100
TZOFFSETTO:+1000
TZNAME:AEST
DTSTART:20240406T160000
END:STANDARD
BEGIN:DAYLIGHT
TZOFFSETFROM:+1000
TZOFFSETTO:+1100
TZNAME:AEDT
DTSTART:20241005T160000
END:DAYLIGHT
BEGIN:STANDARD
TZOFFSETFROM:+1100
TZOFFSETTO:+1000
TZNAME:AEST
DTSTART:20250405T160000
END:STANDARD
BEGIN:DAYLIGHT
TZOFFSETFROM:+1000
TZOFFSETTO:+1100
TZNAME:AEDT
DTSTART:20251004T160000
END:DAYLIGHT
END:VTIMEZONE
BEGIN:VTIMEZONE
TZID:UTC
BEGIN:STANDARD
TZOFFSETFROM:+0000
TZOFFSETTO:+0000
TZNAME:UTC
DTSTART:20230101T000000
END:STANDARD
END:VTIMEZONE
BEGIN:VEVENT
DTSTART;TZID=Australia/Melbourne:20240403T190000
DTEND;TZID=Australia/Melbourne:20240403T220000
DTSTAMP:20260421T194458
CREATED:20240326T000406Z
LAST-MODIFIED:20240326T000406Z
UID:13689-1712170800-1712181600@adventist.org.au
SUMMARY:The Faith Experiment with Robbie Berghan
DESCRIPTION:WHAT: Enjoy a FREE community dinner event with Robbie Berghan from “The Faith Experiment”. Robbie will present a high-powered\, exciting and insightful presentation on what is happening in the world right now! “Prophecy and Digital Currencies.” \nCOST: Free \nWHEN: Starts 7 pm – 3 April 2024 \nWHERE: 85 Phillip St\, Chinderah NSW 2487 \nRSVP: RSVP by Apil 1 – Call (02) 8313 2698
URL:https://adventist.org.au/event/the-faith-experiment-with-robbie-berghan/
LOCATION:NSW
ATTACH;FMTTYPE=image/jpeg:https://adventist.org.au/wp-content/uploads/2024/03/FAITH-EXPERIMENT-FB-ADVERT-scaled-1.jpg
END:VEVENT
BEGIN:VEVENT
DTSTART;TZID=UTC:20240405T100000
DTEND;TZID=UTC:20240407T190000
DTSTAMP:20260421T194458
CREATED:20231031T172215Z
LAST-MODIFIED:20231031T172609Z
UID:11804-1712311200-1712516400@adventist.org.au
SUMMARY:Hyve 2024
DESCRIPTION:Today’s challenging economic environment is encouraging more people than ever\, especially the younger generations\, to create start-up businesses and get income from entrepreneurial ‘side hacks’.\n\n\nDo you have an idea\, a prototype\, a burning desire to start something? Are you ready to make your life and your current business more missional?\n\n\n\nJoin us at Hyve Australia 2024. Meet the visionaries\, the entrepreneurs\, the missional CEOs\, investors and innovators. Take your idea to the next level\, gain knowledge and learn current trends. Get the latest updates in marketing\, product development\, entrepreneurial ministry\, attracting investment and scaling your company.\n\n\n\nYou can even pitch your idea to win up to $5\,000.
URL:https://adventist.org.au/event/hyve-2024/
LOCATION:Avondale University\, 582 Freemans Drive\, Cooranbong\, NSW\, 2265\, Australia
ATTACH;FMTTYPE=image/png:https://adventist.org.au/wp-content/uploads/2023/11/2024-HYVE-InstaAd-1024x1024-1.png
END:VEVENT
BEGIN:VEVENT
DTSTART;VALUE=DATE:20240415
DTEND;VALUE=DATE:20240416
DTSTAMP:20260421T194458
CREATED:20231031T171556Z
LAST-MODIFIED:20231031T171804Z
UID:11799-1713139200-1713225599@adventist.org.au
SUMMARY:Mission Impact Fund 2024
DESCRIPTION:Is your church wanting to start\, or expand\, frontline mission initiatives that engage with and meet the needs of your community in new and innovative ways? The worldwide Mission Impact Fund allocates finances for I will Go initiatives led by local churches\, and applications are now open! Applications close April 15 2024.\n\n\n\nTo learn more & apply: https://discipleship.adventistchurch.com/mission-impact…/ 
URL:https://adventist.org.au/event/mission-impact-fund/
LOCATION:NSW
ATTACH;FMTTYPE=image/png:https://adventist.org.au/wp-content/uploads/2023/11/2023-MIF-Square-AU-NZ-e1698812246144.png
END:VEVENT
END:VCALENDAR